Workbook

Sheet Sheet1
A1: 2025年9月份农村低保汇总表
A2: 乡、办 | B2: 总额
B3: 户数 | C3: 人数 | D3: 金额
A4: 西郊乡 | B4: =[1]东部!B4 -> 232 | C4: =[1]东部!C4 -> 280 | D4: =[1]东部!D4 -> 73485
A5: 北蒙办 | B5: =[1]东部!B5 -> 197 | C5: =[1]东部!C5 -> 276 | D5: =[1]东部!D5 -> 73152
A6: 水冶镇 | B6: =[1]东部!B6 -> 286 | C6: =[1]东部!C6 -> 439 | D6: =[1]东部!D6 -> 115783
A7: 曲沟镇 | B7: =[1]东部!B7 -> 228 | C7: =[1]东部!C7 -> 304 | D7: =[1]东部!D7 -> 79884
A8: 铜冶镇 | B8: =[1]西部!B4 -> 236 | C8: =[1]西部!C4 -> 329 | D8: =[1]西部!D4 -> 86898
A9: 伦掌镇 | B9: =[1]西部!B5 -> 404 | C9: =[1]西部!C5 -> 615 | D9: =[1]西部!D5 -> 162210
A10: 都里镇 | B10: =[1]西部!B6 -> 257 | C10: =[1]西部!C6 -> 407 | D10: =[1]西部!D6 -> 110704
A11: 磊口乡 | B11: =[1]西部!B7 -> 357 | C11: =[1]西部!C7 -> 473 | D11: =[1]西部!D7 -> 125556
A12: 许家沟乡 | B12: =[1]西部!B8 -> 239 | C12: =[1]西部!C8 -> 300 | D12: =[1]西部!D8 -> 79699
A13: 安丰乡 | B13: =[1]西部!B9 -> 781 | C13: =[1]西部!C9 -> 1088 | D13: =[1]西部!D9 -> 285150
A14: 洪河屯乡 | B14: =[1]西部!B10 -> 235 | C14: =[1]西部!C10 -> 343 | D14: =[1]西部!D10 -> 91396
A15: 合计 | B15: =SUM(B4:B14) -> 3452 | C15: =SUM(C4:C14) -> 4854 | D15: =SUM(D4:D14) -> 1283917

Sheet Sheet2

Sheet Sheet3
