Workbook

Sheet ##BASEINFO
A1: 基础信息 | B1: 2025年 月
A2: 期间名称 | B2: 2025年
A3: 单位体系编码 | B3: ZJS001DW
A4: 单位编码 | B4: 00902090059003
A5: 上级单位编码 | B5: 00902090059
A6: 单位级次 | B6: 6
A7: 单位全称 | B7: 汤阴县
A8: 单位简称 | B8: 汤阴县
A9: 创建单位的级次 | B9: null
A10: 助记符 拼音首字母 | B10: 1001
A11: 行政区划代码
A12: 行政区划代码 | B12: 410523000
A13: 行政区划类型
A14: 财政区划代码 | B14: 410523000
A15: 财政区划类型
A16: 单位年度 | B16: 2025
A17: 期间代码 | B17: 2025N
A18: 舍位状态 | B18: 0
A19: 数值单位 | B19: 万元
A20: J71表名称 | B20: 汤阴县

Sheet 2025年汤阴县财政总决算报表
A9: ='##BASEINFO'!$B$2&"度财政总决算报表" -> 2025年度财政总决算报表

Sheet 目录
B1: 财 政 总 决 算 报 表 目 录
B3: 表号 | C3: 表名 | D3: 页码
B4: 决算01表 | C4: 一般公共预算收入决算表 | E4: 第一部分:一般公共预算
B5: 决算02表 | C5: 一般公共预算支出决算表
B6: 决算03表 | C6: 一般公共预算本级支出决算表
B7: 决算04表 | C7: 一般公共预算本级基本支出决算表
B8: 决算05表 | C8: 一般公共预算税收返还和转移支付决算表
B9: 决算06表 | C9: 政府一般债务限额和余额情况决算表
B10: 决算07表 | C10: 汤阴一般公共预算收支决算总表
B11: 决算08表 | C11: 汤阴县一般公共预算变动及结余、结转情况表
B12: 决算09表 | C12: 汤阴县一般公共预算收入决算明细表
B13: 决算10表 | C13: 汤阴县一般公共预算支出决算功能分类明细表
B14: 决算11表 | C14: 汤阴县一般公共预算支出决算经济分类明细表
B15: 决算12表 | C15: 政府性基金收入决算表 | E15: 第二部分:政府性基金预算
B16: 决算13表 | C16: 政府性基金支出决算表
B17: 决算14表 | C17: 本级政府性基金支出决算表
B18: 决算15表 | C18: 政府性基金转移支付决算表
B19: 决算16表 | C19: 政府专项债务限额和余额情况决算表
B20: 决算17表 | C20: 汤阴县政府性基金决算明细表
B21: 决算18表 | C21: 汤阴县政府性基金支出决算功能分类明细表
B22: 决算19表 | C22: 汤阴县政府性基金收支及结余情况表
B23: 决算20表 | C23: 汤阴县政府性基金预算收支分级表
B24: 决算21表 | C24: 国有资本经营预算收入决算表 | E24: 第三部分:国有资本经营预算
B25: 决算22表 | C25: 国有资本经营预算支出决算表
B26: 决算23表 | C26: 本级国有资本经营预算支出决算表
B27: 决算24表 | C27: 国有资本经营预算转移支付表
B28: 决算25表 | C28: 汤阴县国有资本经营预算收支决算明细表
B29: 决算26表 | C29: 汤阴县国有资本经营预算收支决算分级表
B30: 决算27表 | C30: 社会保险基金收入决算表 | E30: 第四部分:社会保险基金
B31: 决算28表 | C31: 社会保险基金支出决算表
B32: 决算29表 | C32: 税收返还分地区公开表 | E32: 第五部分：补充资料
B33: 决算30表 | C33: 一般性转移支付分地区公开表
B34: 决算31表 | C34: 专项转移支付决算表分地区、分项目公开表
B35: 决算32表 | C35: 政府性基金预算本级支出功能分类到项级科目
B36: 决算33表 | C36: 国有资本经营预算本级支出功能分类到项级科目
B37: 决算34表 | C37: 社会保险基金预算本级支出功能分类到项级科目
B38: 决算35表 | C38: 汤阴县相关指标表
B39: 决算36表 | C39: 汤阴县“三公”经费支出决算表

Sheet sheet01
A9: 第一部分:一般公共预算

Sheet 1.一般公共预算收入决算表
A1: ='##BASEINFO'!$B$2&"度"&'##BASEINFO'!$B$7&"一般公共预算收支决算总表" -> 2025年度汤阴县一般公共预算收支决算总表
A2: 决算01表
A3: 单位:万元
A4: 预算科目 | B4: 预算数 | C4: 调整预算数 | D4: 决算数 | E4: 预算科目 | F4: 预算数 | G4: 调整预算数 | H4: 决算数
A5: 一、税收收入 | B5: 179740 | C5: 179740 | D5: 176457 | E5: 一、一般公共服务支出 | F5: 111462 | G5: 101774 | H5: 101717
A6: 增值税 | B6: 74607 | C6: 74607 | D6: 90200 | E6: 二、外交支出
A7: 企业所得税 | B7: 15628 | C7: 15628 | D7: 12983 | E7: 三、国防支出 | F7: 879 | G7: 580 | H7: 580
A8: 个人所得税 | B8: 4037 | C8: 4037 | D8: 2349 | E8: 四、公共安全支出 | F8: 12143 | G8: 10359 | H8: 10102
A9: 资源税 | B9: 889 | C9: 889 | D9: 1003 | E9: 五、教育支出 | F9: 86273 | G9: 75949 | H9: 74892
A10: 城市维护建设税 | B10: 5239 | C10: 5239 | D10: 6136 | E10: 六、科学技术支出 | F10: 9130 | G10: 10774 | H10: 10774
A11: 房产税 | B11: 9070 | C11: 9070 | D11: 6757 | E11: 七、文化旅游体育与传媒支出 | F11: 8733 | G11: 6681 | H11: 6670
A12: 印花税 | B12: 3325 | C12: 3325 | D12: 2871 | E12: 八、社会保障和就业支出 | F12: 43836 | G12: 43466 | H12: 43279
A13: 城镇土地使用税 | B13: 30914 | C13: 30914 | D13: 23767 | E13: 九、卫生健康支出 | F13: 26907 | G13: 26892 | H13: 25788
A14: 土地增值税 | B14: 11208 | C14: 11208 | D14: 13385 | E14: 十、节能环保支出 | F14: 4525 | G14: 7201 | H14: 6650
A15: 车船税 | B15: 5560 | C15: 5560 | D15: 3103 | E15: 十一、城乡社区支出 | F15: 19820 | G15: 24204 | H15: 19940
A16: 耕地占用税 | B16: 11386 | C16: 11386 | D16: 5549 | E16: 十二、农林水支出 | F16: 58587 | G16: 58855 | H16: 53888
A17: 契税 | B17: 7162 | C17: 7162 | D17: 5576 | E17: 十三、交通运输支出 | F17: 13611 | G17: 11235 | H17: 7734
A18: 烟叶税 | E18: 十四、资源勘探工业信息等支出 | F18: 6968 | G18: 6156 | H18: 4676
A19: 环境保护税 | B19: 715 | C19: 715 | D19: 2776 | E19: 十五、商业服务业等支出 | F19: 433 | G19: 437 | H19: 260
A20: 其他税收收入 | D20: 2 | E20: 十六、金融支出
A21: 二、非税收入 | B21: 83980 | C21: 83980 | D21: 87848 | E21: 十七、援助其他地区支出
A22: 专项收入 | B22: 25430 | C22: 25430 | D22: 21726 | E22: 十八、自然资源海洋气象等支出 | F22: 2424 | G22: 1743 | H22: 1743
A23: 行政事业性收费收入 | B23: 5065 | C23: 5065 | D23: 2075 | E23: 十九、住房保障支出 | F23: 11508 | G23: 11288 | H23: 8593
A24: 罚没收入 | B24: 5820 | C24: 5820 | D24: 6827 | E24: 二十、粮油物资储备支出 | F24: 631 | G24: 406 | H24: 346
A25: 国有资本经营收入 | E25: 二十一、灾害防治及应急管理支出 | F25: 12657 | G25: 10884 | H25: 2857
A26: 国有资源(资产)有偿使用收入 | B26: 45105 | C26: 45105 | D26: 56836 | E26: 二十二、预备费 | F26: 5000
A27: 其他收入 | B27: 2560 | C27: 2560 | D27: 384 | E27: 二十三、其他支出 | F27: 25523 | G27: 7873 | H27: 4713
E28: 二十四、债务付息支出 | F28: 2359 | G28: 2359 | H28: 2359
E29: 二十五、债务发行费用支出 | F29: 1 | G29: 1 | H29: 1
A30: 本 年 收 入 合 计 | B30: 263720 | C30: 263720 | D30: 264305 | E30: 本 年 支 出 合 计 | F30: 463410 | G30: 419117 | H30: 387562

Sheet 2.一般公共预算支出决算表
A1: ='##BASEINFO'!$B$2&"度"&'##BASEINFO'!$B$7&"一般公共预算收支决算表" -> 2025年度汤阴县一般公共预算收支决算表
A2: 决算02表
A3: 单位:万元
A4: 预算科目 | B4: 预算数 | C4: 调整预算数 | D4: 决算数 | E4: 预算科目 | F4: 预算数 | G4: 调整预算数 | H4: 决算数
A5: 一、税收收入 | B5: 179740 | C5: 179740 | D5: 176457 | E5: 一、一般公共服务支出 | F5: 111462 | G5: 101774 | H5: 101717
A6: 增值税 | B6: 74607 | C6: 74607 | D6: 90200 | E6: 二、外交支出
A7: 企业所得税 | B7: 15628 | C7: 15628 | D7: 12983 | E7: 三、国防支出 | F7: 879 | G7: 580 | H7: 580
A8: 个人所得税 | B8: 4037 | C8: 4037 | D8: 2349 | E8: 四、公共安全支出 | F8: 12143 | G8: 10359 | H8: 10102
A9: 资源税 | B9: 889 | C9: 889 | D9: 1003 | E9: 五、教育支出 | F9: 86273 | G9: 75949 | H9: 74892
A10: 城市维护建设税 | B10: 5239 | C10: 5239 | D10: 6136 | E10: 六、科学技术支出 | F10: 9130 | G10: 10774 | H10: 10774
A11: 房产税 | B11: 9070 | C11: 9070 | D11: 6757 | E11: 七、文化旅游体育与传媒支出 | F11: 8733 | G11: 6681 | H11: 6670
A12: 印花税 | B12: 3325 | C12: 3325 | D12: 2871 | E12: 八、社会保障和就业支出 | F12: 43836 | G12: 43466 | H12: 43279
A13: 城镇土地使用税 | B13: 30914 | C13: 30914 | D13: 23767 | E13: 九、卫生健康支出 | F13: 26907 | G13: 26892 | H13: 25788
A14: 土地增值税 | B14: 11208 | C14: 11208 | D14: 13385 | E14: 十、节能环保支出 | F14: 4525 | G14: 7201 | H14: 6650
A15: 车船税 | B15: 5560 | C15: 5560 | D15: 3103 | E15: 十一、城乡社区支出 | F15: 19820 | G15: 24204 | H15: 19940
A16: 耕地占用税 | B16: 11386 | C16: 11386 | D16: 5549 | E16: 十二、农林水支出 | F16: 58587 | G16: 58855 | H16: 53888
A17: 契税 | B17: 7162 | C17: 7162 | D17: 5576 | E17: 十三、交通运输支出 | F17: 13611 | G17: 11235 | H17: 7734
A18: 烟叶税 | E18: 十四、资源勘探工业信息等支出 | F18: 6968 | G18: 6156 | H18: 4676
A19: 环境保护税 | B19: 715 | C19: 715 | D19: 2776 | E19: 十五、商业服务业等支出 | F19: 433 | G19: 437 | H19: 260
A20: 其他税收收入 | D20: 2 | E20: 十六、金融支出
A21: 二、非税收入 | B21: 83980 | C21: 83980 | D21: 87848 | E21: 十七、援助其他地区支出
A22: 专项收入 | B22: 25430 | C22: 25430 | D22: 21726 | E22: 十八、自然资源海洋气象等支出 | F22: 2424 | G22: 1743 | H22: 1743
A23: 行政事业性收费收入 | B23: 5065 | C23: 5065 | D23: 2075 | E23: 十九、住房保障支出 | F23: 11508 | G23: 11288 | H23: 8593
A24: 罚没收入 | B24: 5820 | C24: 5820 | D24: 6827 | E24: 二十、粮油物资储备支出 | F24: 631 | G24: 406 | H24: 346
A25: 国有资本经营收入 | E25: 二十一、灾害防治及应急管理支出 | F25: 12657 | G25: 10884 | H25: 2857
A26: 国有资源(资产)有偿使用收入 | B26: 45105 | C26: 45105 | D26: 56836 | E26: 二十二、预备费 | F26: 5000
A27: 其他收入 | B27: 2560 | C27: 2560 | D27: 384 | E27: 二十三、其他支出 | F27: 25523 | G27: 7873 | H27: 4713
E28: 二十四、债务付息支出 | F28: 2359 | G28: 2359 | H28: 2359
E29: 二十五、债务发行费用支出 | F29: 1 | G29: 1 | H29: 1
A30: 本 年 收 入 合 计 | B30: 263720 | C30: 263720 | D30: 264305 | E30: 本 年 支 出 合 计 | F30: 463410 | G30: 419117 | H30: 387562

Sheet 3.一般公共预算本级支出决算表
A1: ='##BASEINFO'!$B$2&"度"&'##BASEINFO'!$B$7&"一般公共预算本级支出决算功能分类明细表" -> 2025年度汤阴县一般公共预算本级支出决算功能分类明细表
A2: 决算03表
A3: 单位:万元
A4: 预算科目 | B4: 决算数
A5: 一般公共服务支出 | B5: 21684.28
A6: 人大事务 | B6: 463.46
A7: 行政运行 | B7: 441.94
A8: 一般行政管理事务
A9: 机关服务
A10: 人大会议 | B10: 21.52
A11: 人大立法
A12: 人大监督
A13: 人大代表履职能力提升
A14: 代表工作
A15: 人大信访工作
A16: 事业运行
A17: 其他人大事务支出
A18: 政协事务 | B18: 335.75
A19: 行政运行 | B19: 335.75
A20: 一般行政管理事务
A21: 机关服务
A22: 政协会议
A23: 委员视察
A24: 参政议政
A25: 事业运行
A26: 其他政协事务支出
A27: 政府办公厅(室)及相关机构事务 | B27: 4183.51
A28: 行政运行 | B28: 2733.9
A29: 一般行政管理事务 | B29: 93.41
A30: 机关服务 | B30: 1292.39
A31: 专项服务
A32: 专项业务及机关事务管理
A33: 政务公开审批
A34: 参事事务
A35: 事业运行
A36: 其他政府办公厅(室)及相关机构事务支出 | B36: 63.81
A37: 发展与改革事务 | B37: 1500.96
A38: 行政运行 | B38: 562.66
A39: 一般行政管理事务 | B39: 938.18
A40: 机关服务
...

Sheet 4.一般公共预算本级基本支出决算表
A1: 2025年度汤阴县一般公共预算本级基本支出决算表
A2: 决算04表
A3: 单位:万元
A4: 科目编码 | B4: 科目名称 | C4: 金额
B5: 一般公共预算基本支出经济分类合计 | C5: 126613
A6: 501 | B6: 机关工资福利支出 | C6: 36280
A7: 50101 | B7: 工资奖金津补贴 | C7: 24032
A8: 50102 | B8: 社会保障缴费 | C8: 6282
A9: 50103 | B9: 住房公积金 | C9: 2895
A10: 50199 | B10: 其他工资福利支出 | C10: 3071
A11: 502 | B11: 机关商品和服务支出 | C11: 3506
A12: 50201 | B12: 办公经费 | C12: 2514
A13: 50202 | B13: 会议费 | C13: 2
A14: 50203 | B14: 培训费 | C14: 24
A15: 50204 | B15: 专用材料购置费
A16: 50205 | B16: 委托业务费 | C16: 56
A17: 50206 | B17: 公务接待费 | C17: 22
A18: 50207 | B18: 因公出国(境)费用
A19: 50208 | B19: 公务用车运行维护费 | C19: 500
A20: 50209 | B20: 维修(护)费 | C20: 141
A21: 50299 | B21: 其他商品和服务支出 | C21: 247
A22: 503 | B22: 机关资本性支出 | C22: 63
A23: 50301 | B23: 房屋建筑物购建
A24: 50302 | B24: 基础设施建设
A25: 50303 | B25: 公务用车购置
A26: 50305 | B26: 土地征迁补偿和安置支出
A27: 50306 | B27: 设备购置 | C27: 45
A28: 50307 | B28: 大型修缮
A29: 50399 | B29: 其他资本性支出 | C29: 18
A30: 504 | B30: 机关资本性支出(基本建设)
A31: 50401 | B31: 房屋建筑物购建
A32: 50402 | B32: 基础设施建设
A33: 50403 | B33: 公务用车购置
A34: 50404 | B34: 设备购置
A35: 50405 | B35: 大型修缮
A36: 50499 | B36: 其他资本性支出
A37: 505 | B37: 对事业单位经常性补助 | C37: 78882
A38: 50501 | B38: 工资福利支出 | C38: 75989
A39: 50502 | B39: 商品和服务支出 | C39: 2893
A40: 50599 | B40: 其他对事业单位补助
...

Sheet 5.一般公共预算税收返还和转移支付决算表
A1: ='[1]##BASEINFO'!$B$2&"度"&'[1]##BASEINFO'!$B$7&"一般公共预算转移性和债务相关收支决算明细表" -> 2025年度汤阴县一般公共预算转移性和债务相关收支决算明细表
A2: 决算05表
A3: 单位:万元
A4: 预算科目 | B4: 决算数 | C4: 预算科目 | D4: 决算数
A5: 一、返还性收入 | B5: 7103 | C5: 国防 | D5: 8
A6: 所得税基数返还收入 | B6: 571 | C6: 公共安全 | D6: 110
A7: 成品油税费改革税收返还收入 | B7: 861 | C7: 教育 | D7: 663
A8: 增值税税收返还收入 | B8: 1926 | C8: 科学技术 | D8: 50
A9: 消费税税收返还收入 | B9: 1 | C9: 文化旅游体育与传媒 | D9: 95
A10: 增值税“五五分享”税收返还收入 | B10: 3744 | C10: 社会保障和就业 | D10: 10
A11: 其他返还性收入 | C11: 卫生健康 | D11: 246
A12: 二、一般性转移支付收入 | B12: 138892 | C12: 节能环保 | D12: 2863
A13: 体制补助收入 | C13: 城乡社区
A14: 均衡性转移支付收入 | B14: 40448 | C14: 农林水 | D14: 4698
A15: 县级基本财力保障机制奖补资金收入 | B15: 14916 | C15: 交通运输 | D15: 6581
A16: 结算补助收入 | B16: 3121 | C16: 资源勘探工业信息等 | D16: 415
A17: 资源枯竭型城市转移支付补助收入 | C17: 商业服务业等 | D17: 227
A18: 企业事业单位划转补助收入 | C18: 金融
A19: 产粮(油)大县奖励资金收入 | B19: 3384 | C19: 自然资源海洋气象等 | D19: 200
A20: 重点生态功能区转移支付收入 | B20: 2130 | C20: 住房保障
A21: 固定数额补助收入 | B21: 19726 | C21: 粮油物资储备 | D21: 60
A22: 革命老区转移支付收入 | C22: 灾害防治及应急管理
A23: 民族地区转移支付收入 | C23: 其他收入
A24: 边境地区转移支付收入 | C24: 四、债务(转贷)收入 | D24: 11170
A25: 巩固脱贫攻坚成果衔接乡村振兴转移支付收入 | B25: 4170 | C25: 地方政府一般债券(转贷)收入 | D25: 11170
A26: 一般公共服务共同财政事权转移支付收入 | C26: 地方政府向外国政府借款(转贷)收入
A27: 外交共同财政事权转移支付收入 | C27: 地方政府向国际组织借款(转贷)收入
A28: 国防共同财政事权转移支付收入 | C28: 地方政府其他一般债务(转贷)收入
A29: 公共安全共同财政事权转移支付收入 | B29: 1349 | C29: 五、调入资金 | D29: 10442
A30: 教育共同财政事权转移支付收入 | B30: 15277 | C30: 从政府性基金预算调入 | D30: 10442
A31: 科学技术共同财政事权转移支付收入 | C31: 从国有资本经营预算调入
A32: 文化旅游体育与传媒共同财政事权转移支付收入 | B32: 617 | C32: 从其他资金调入
A33: 社会保障和就业共同财政事权转移支付收入 | B33: 7978 | C33: 六、区域间转移性收入
A34: 医疗卫生共同财政事权转移支付收入 | B34: 8711 | C34: 接受其他地区援助收入
A35: 节能环保共同财政事权转移支付收入 | B35: 238 | C35: 生态保护补偿转移性收入
A36: 城乡社区共同财政事权转移支付收入 | B36: 69 | C36: 土地指标调剂转移性收入
A37: 农林水共同财政事权转移支付收入 | B37: 15786 | C37: 其他转移性收入
A38: 交通运输共同财政事权转移支付收入 | B38: 574 | C38: 七、上解上级支出 | D38: 51123
A39: 资源勘探工业信息等共同财政事权转移支付收入 | C39: 体制上解支出 | D39: 5604
A40: 商业服务业等共同财政事权转移支付收入 | C40: 专项上解支出 | D40: 45519
...

Sheet 6.政府一般债务限额和余额情况决算表
A1: ='##BASEINFO'!$B$2&"度"&'##BASEINFO'!$B$7&"地方政府债务余额情况表" -> 2025年度汤阴县地方政府债务余额情况表
A2: 决算06表
A3: 单位:万元
A4: 项目 | B4: 预算数 | C4: 决算数
A5: 上年末地方政府债务余额 | C5: 648090
A6: 一般债务 | C6: 77453
A7: 专项债务 | C7: 570637
A8: 本年地方政府债务余额限额 | B8: 769499
A9: 一般债务 | B9: 78386
A10: 专项债务 | B10: 691113
A11: 本年地方政府债务(转贷)收入 | C11: 141270
A12: 一般债务 | C12: 11170
A13: 专项债务 | C13: 130100
A14: 本年地方政府债务还本支出 | C14: 65349
A15: 一般债务 | C15: 11902
A16: 专项债务 | C16: 53447
A17: 年末地方政府债务余额 | C17: 756011
A18: 一般债务 | C18: 76721
A19: 专项债务 | C19: 679290

Sheet 7.汤阴县一般公共预算收支决算总表
A1: ='##BASEINFO'!$B$2&"度"&'##BASEINFO'!$B$7&"一般公共预算收支决算总表" -> 2025年度汤阴县一般公共预算收支决算总表
A2: 决算07表
A3: 单位:万元
A4: 项目 | B4: 决算数 | C4: 项目 | D4: 决算数
A5: 本 年 收 入 合 计 | B5: 264305 | C5: 本 年 支 出 合 计 | D5: 387562
A6: 上级补助收入 | B6: 162455 | C6: 上解上级支出 | D6: 51123
A7: 返还性收入 | B7: 7103
A8: 一般性转移支付收入 | B8: 138892
A9: 专项转移支付收入 | B9: 16460
A10: 待偿债再融资一般债券上年结余
A11: 上年结余收入 | B11: 56869
A12: 调入资金 | B12: 10442 | C12: 调出资金 | D12: 30601
A13: 债务(转贷)收入 | B13: 11170 | C13: 债务还本支出 | D13: 11902
C14: 补充预算周转金
A15: 国债转贷收入、上年结余及转补助数 | C15: 国债转贷拨付数及年终结余
A16: 动用预算稳定调节基金 | B16: 8549 | C16: 安排预算稳定调节基金 | D16: 1047
A17: 区域间转移性收入 | C17: 区域间转移性支出
A18: 省补助计划单列市收入 | C18: 计划单列市上解省支出
C19: 待偿债再融资一般债券结余
C20: 年终结余 | D20: 31555
C21: 减:结转下年的支出 | D21: 31555
C22: 净结余
A23: 收 入 总 计 | B23: 513790 | C23: 支 出 总 计 | D23: 513790

Sheet 8.汤阴县一般公共预算变动及结余、结转情况表
A1: ='##BASEINFO'!$B$2&"度"&'##BASEINFO'!$B$7&"一般公共预算支出预算变动及结余、结转情况表" -> 2025年度汤阴县一般公共预算支出预算变动及结余、结转情况表
A2: 决算08表
A3: 单位:万元
A4: 预算科目 | B4: 预算数 | C4: 变 动 项 目 | Q4: 调整预算数 | R4: 决算数 | S4: 预算结余 | T4: 结转下年使用数
C5: 小计 | D5: 返还性收入 | E5: 一般性转移支付 | F5: 专项转移支付 | G5: 上年结转使用数 | H5: 调入资金 | I5: 债务(转贷)收入 | J5: 动支预备费 | K5: 科目调剂 | L5: 本年短收安排 | M5: 动用预算稳定调节基金 | N5: 安排预算稳定调节基金 | O5: 省补助计划单列市 | P5: 其他
A6: 一般公共服务支出 | B6: 111462 | C6: -9688 | E6: 1691 | F6: 232 | K6: -11611 | Q6: 101774 | R6: 101717 | S6: 57 | T6: 57
A7: 人大事务 | B7: 2747 | C7: -1283 | K7: -1283 | Q7: 1464 | R7: 1464
A8: 政协事务 | B8: 425 | C8: -89 | K8: -89 | Q8: 336 | R8: 336
A9: 政府办公厅(室)及相关机构事务 | B9: 35641 | C9: -9336 | K9: -9336 | Q9: 26305 | R9: 26305
A10: 发展与改革事务 | B10: 1095 | C10: 406 | E10: 406 | Q10: 1501 | R10: 1501
A11: 统计信息事务 | B11: 458 | C11: -12 | K11: -12 | Q11: 446 | R11: 446
A12: 财政事务 | B12: 2285 | C12: -696 | K12: -696 | Q12: 1589 | R12: 1589
A13: 税收事务 | B13: 1090 | C13: -260 | K13: -260 | Q13: 830 | R13: 830
A14: 审计事务 | B14: 498 | C14: -86 | F14: 4 | K14: -90 | Q14: 412 | R14: 412
A15: 海关事务 | B15: 150 | C15: -130 | K15: -130 | Q15: 20 | R15: 20
A16: 纪检监察事务 | B16: 4300 | C16: 525 | E16: 393 | F16: 132 | Q16: 4825 | R16: 4825
A17: 商贸事务 | B17: 54010 | C17: 3099 | E17: 635 | F17: 13 | K17: 2451 | Q17: 57109 | R17: 57096 | S17: 13 | T17: 13
A18: 知识产权事务
A19: 民族事务
A20: 港澳台事务
A21: 档案事务
A22: 民主党派及工商联事务 | C22: 24 | E22: 24 | Q22: 24 | R22: 24
A23: 群众团体事务 | B23: 172 | C23: -27 | F23: 17 | K23: -44 | Q23: 145 | R23: 138 | S23: 7 | T23: 7
A24: 党委办公厅(室)及相关机构事务 | B24: 2873 | C24: -860 | F24: 50 | K24: -910 | Q24: 2013 | R24: 1976 | S24: 37 | T24: 37
A25: 组织事务 | B25: 1458 | C25: -523 | K25: -523 | Q25: 935 | R25: 935
A26: 宣传事务 | B26: 612 | C26: 232 | E26: 232 | Q26: 844 | R26: 844
A27: 统战事务 | B27: 372 | C27: -109 | K27: -109 | Q27: 263 | R27: 263
A28: 对外联络事务
A29: 其他共产党事务支出
A30: 网信事务
A31: 市场监督管理事务 | B31: 2440 | C31: -354 | F31: 16 | K31: -370 | Q31: 2086 | R31: 2086
A32: 社会工作事务 | B32: 164 | C32: -47 | K32: -47 | Q32: 117 | R32: 117
A33: 信访事务 | B33: 672 | C33: -163 | K33: -163 | Q33: 509 | R33: 509
A34: 数据事务
A35: 其他一般公共服务支出 | C35: 1 | E35: 1 | Q35: 1 | R35: 1
A36: 外交支出
A37: 国防支出 | B37: 879 | C37: -299 | F37: 8 | K37: -307 | Q37: 580 | R37: 580
A38: 公共安全支出 | B38: 12143 | C38: -1784 | E38: 9 | F38: 110 | K38: -1903 | Q38: 10359 | R38: 10102 | S38: 257 | T38: 257
A39: 武装警察部队
A40: 公安 | B40: 10502 | C40: -1415 | F40: 98 | K40: -1513 | Q40: 9087 | R40: 8953 | S40: 134 | T40: 134
...

Sheet 9.汤阴县一般公共预算收入决算明细表
A1: ='##BASEINFO'!$B$2&"度"&'##BASEINFO'!$B$7&"一般公共预算收入决算明细表" -> 2025年度汤阴县一般公共预算收入决算明细表
A2: 决算09表
A3: 单位:万元
A4: 预算科目 | B4: 决算数
A5: 税收收入 | B5: 176457
A6: 增值税 | B6: 90200
A7: 国内增值税 | B7: 90200
A8: 国有企业增值税 | B8: 1762
A9: 集体企业增值税 | B9: 40
A10: 股份制企业增值税 | B10: 37450
A11: 联营企业增值税
A12: 港澳台和外商投资企业增值税 | B12: 343
A13: 私营企业增值税 | B13: 44591
A14: 中国国家铁路集团有限公司改征增值税收入
A15: 其他增值税 | B15: 3105
A16: 增值税税款滞纳金、罚款收入 | B16: 702
A17: 残疾人就业增值税退税 | B17: -52
A18: 软件增值税退税
A19: 宣传文化单位增值税退税
A20: 核电站增值税退税
A21: 资源综合利用增值税退税 | B21: -572
A22: 黄金增值税退税
A23: 风力发电增值税退税 | B23: -29
A24: 管道运输增值税退税
A25: 融资租赁增值税退税
A26: 增值税留抵退税
A27: 增值税留抵退税省级调库
A28: 增值税留抵退税省级以下调库
A29: 其他增值税退税
A30: 免抵调增增值税 | B30: 2860
A31: 成品油价格和税费改革增值税划出
A32: 跨省管道运输企业增值税
A33: 企业所得税 | B33: 12983
A34: 国有冶金工业所得税
A35: 国有有色金属工业所得税
A36: 国有煤炭工业所得税
A37: 国有电力工业所得税
A38: 国有石油和化学工业所得税
A39: 国有机械工业所得税
A40: 国有汽车工业所得税
...

Sheet 10.汤阴县一般公共预算支出决算功能分类明细表
A1: ='##BASEINFO'!$B$2&"度"&'##BASEINFO'!$B$7&"一般公共预算支出决算功能分类明细表" -> 2025年度汤阴县一般公共预算支出决算功能分类明细表
A2: 决算10表
A3: 单位:万元
A4: 预算科目 | B4: 决算数
A5: 一般公共服务支出 | B5: 101717
A6: 人大事务 | B6: 1464
A7: 行政运行 | B7: 1442
A8: 一般行政管理事务
A9: 机关服务
A10: 人大会议 | B10: 22
A11: 人大立法
A12: 人大监督
A13: 人大代表履职能力提升
A14: 代表工作
A15: 人大信访工作
A16: 事业运行
A17: 其他人大事务支出
A18: 政协事务 | B18: 336
A19: 行政运行 | B19: 336
A20: 一般行政管理事务
A21: 机关服务
A22: 政协会议
A23: 委员视察
A24: 参政议政
A25: 事业运行
A26: 其他政协事务支出
A27: 政府办公厅(室)及相关机构事务 | B27: 26305
A28: 行政运行 | B28: 15557
A29: 一般行政管理事务 | B29: 8806
A30: 机关服务 | B30: 1292
A31: 专项服务
A32: 专项业务及机关事务管理
A33: 政务公开审批
A34: 参事事务
A35: 事业运行
A36: 其他政府办公厅(室)及相关机构事务支出 | B36: 650
A37: 发展与改革事务 | B37: 1501
A38: 行政运行 | B38: 563
A39: 一般行政管理事务 | B39: 938
A40: 机关服务
...

Sheet 11.汤阴县一般公共预算支出决算经济分类明细表
A1: ='##BASEINFO'!$B$2&"度"&'##BASEINFO'!$B$7&"一般公共预算支出决算经济分类明细表" -> 2025年度汤阴县一般公共预算支出决算经济分类明细表
A2: 决算11表
A3: 单位:万元
A4: 预算科目 | B4: 决算数
A5: 机关工资福利支出 | B5: 38255
A6: 工资奖金津补贴 | B6: 24733
A7: 社会保障缴费 | B7: 6302
A8: 住房公积金 | B8: 2895
A9: 其他工资福利支出 | B9: 4325
A10: 机关商品和服务支出 | B10: 46039
A11: 办公经费 | B11: 12284
A12: 会议费 | B12: 29
A13: 培训费 | B13: 68
A14: 专用材料购置费 | B14: 66
A15: 委托业务费 | B15: 6663
A16: 公务接待费 | B16: 38
A17: 因公出国(境)费用
A18: 公务用车运行维护费 | B18: 500
A19: 维修(护)费 | B19: 274
A20: 其他商品和服务支出 | B20: 26117
A21: 机关资本性支出 | B21: 32609
A22: 房屋建筑物购建 | B22: 468
A23: 基础设施建设 | B23: 26214
A24: 公务用车购置 | B24: 381
A25: 土地征迁补偿和安置支出 | B25: 3330
A26: 设备购置 | B26: 657
A27: 大型修缮
A28: 其他资本性支出 | B28: 1559
A29: 机关资本性支出(基本建设) | B29: 12923
A30: 房屋建筑物购建 | B30: 2777
A31: 基础设施建设 | B31: 9595
A32: 公务用车购置 | B32: 9
A33: 设备购置 | B33: 225
A34: 大型修缮 | B34: 8
A35: 其他资本性支出 | B35: 309
A36: 对事业单位经常性补助 | B36: 95621
A37: 工资福利支出 | B37: 76950
A38: 商品和服务支出 | B38: 18671
A39: 其他对事业单位补助
A40: 对事业单位资本性补助 | B40: 1669
...

Sheet sheet02
A9: 第二部分:政府性基金预算

Sheet 12.政府性基金收入决算表
A1: ='##BASEINFO'!$B$2&"度"&'##BASEINFO'!$B$7&"政府性基金预算收支决算总表" -> 2025年度汤阴县政府性基金预算收支决算总表
A2: 决算12表
A3: 单位:万元
A4: 预算科目 | B4: 预算数 | C4: 调整预算数 | D4: 决算数 | E4: 预算科目 | F4: 预算数 | G4: 调整预算数 | H4: 决算数
A5: 政府性基金收入 | B5: 140000 | C5: 140000 | D5: 15486 | E5: 教育支出
A6: 专项债务对应项目专项收入 | B6: 10000 | C6: 10000 | D6: 3379 | E6: 科学技术支出
E7: 文化旅游体育与传媒支出 | F7: 160 | G7: 83 | H7: 22
E8: 社会保障和就业支出
E9: 卫生健康支出
E10: 节能环保支出
E11: 城乡社区支出 | F11: 99139 | G11: 114789 | H11: 49066
E12: 农林水支出 | F12: 1619 | G12: 1782 | H12: 601
E13: 交通运输支出
E14: 资源勘探工业信息等支出 | F14: 865 | G14: 1705 | H14: 311
E15: 自然资源海洋气象等支出
E16: 住房保障支出
E17: 粮油物资储备支出 | G17: 3500
E18: 灾害防治及应急管理支出 | F18: 35842 | G18: 35842 | H18: 6535
E19: 其他支出 | F19: 62264 | G19: 58170 | H19: 35865
E20: 债务付息支出 | F20: 15157 | G20: 16887 | H20: 16887
E21: 债务发行费用支出 | F21: 2 | G21: 2 | H21: 2
E22: 抗疫特别国债安排的支出
A23: 本 年 收 入 合 计 | B23: 150000 | C23: 150000 | D23: 18865 | E23: 本 年 支 出 合 计 | F23: 215048 | G23: 232760 | H23: 109289
A24: 上级补助收入 | D24: 13806 | E24: 上解上级支出 | H24: 6667
A25: 政府性基金转移支付收入 | D25: 13806
A26: 科学技术
A27: 文化旅游体育与传媒 | D27: 76
A28: 社会保障和就业
A29: 节能环保
A30: 城乡社区 | D30: 857
A31: 农林水 | D31: 765
A32: 交通运输
A33: 资源勘探工业信息等
A34: 自然资源海洋气象等
A35: 超长期特别国债转移支付收入 | D35: 10562
A36: 其他收入 | D36: 1546
A37: 待偿债再融资专项债券上年结余
A38: 上年结余收入 | D38: 109944
A39: 调入资金 | D39: 30601 | E39: 调出资金 | H39: 10442
A40: 债务(转贷)收入 | D40: 130100 | E40: 债务还本支出 | H40: 53447
...

Sheet 13.政府性基金支出决算表
A1: 2025年度汤阴县政府性基金预算支出决算总表
A2: 决算13表
A3: 单位：万元
A4: 预算科目 | B4: 预算数 | C4: 调整预算数 | D4: 决算数
A5: 教育支出
A6: 科学技术支出
A7: 文化旅游体育与传媒支出 | B7: 160 | C7: 83 | D7: 22
A8: 社会保障和就业支出
A9: 卫生健康支出
A10: 节能环保支出
A11: 城乡社区支出 | B11: 99139 | C11: 114789 | D11: 49066
A12: 农林水支出 | B12: 1619 | C12: 1782 | D12: 601
A13: 交通运输支出
A14: 资源勘探工业信息等支出 | B14: 865 | C14: 1705 | D14: 311
A15: 自然资源海洋气象等支出
A16: 住房保障支出
A17: 粮油物资储备支出 | C17: 3500
A18: 灾害防治及应急管理支出 | B18: 35842 | C18: 35842 | D18: 6535
A19: 其他支出 | B19: 62264 | C19: 58170 | D19: 35865
A20: 债务付息支出 | B20: 15157 | C20: 16887 | D20: 16887
A21: 债务发行费用支出 | B21: 2 | C21: 2 | D21: 2
A22: 抗疫特别国债安排的支出
A23: 本 年 支 出 合 计 | B23: 215048 | C23: 232760 | D23: 109289
A24: 上解上级支出 | D24: 6667
A25: 调出资金 | D25: 10442
A26: 债务还本支出 | D26: 53447
A27: 计划单列市上解省支出
A28: 偿债备付金
A29: 待偿债再融资专项债券结余
A30: 年终结余 | D30: 123471
A31: 支 出 总 计 | D31: 303316

Sheet 14.政府性基金本级支出决算表
A1: 2025年度汤阴县政府性基金本级支出决算表
A2: 决算14表
A3: 单位：万元
B4: 政府性基金预算支出合计 | C4: 109088.7
A5: 205 | B5: 教育支出 | C5: 0
A6: 20598 | B6: 超长期特别国债安排的支出 | C6: 0
A7: 2059801 | B7: 基础教育 | C7: 0
A8: 2059802 | B8: 高等教育 | C8: 0
A9: 2059803 | B9: 职业教育 | C9: 0
A10: 2059804 | B10: 特殊教育 | C10: 0
A11: 2059899 | B11: 其他教育支出 | C11: 0
A12: 206 | B12: 科学技术支出 | C12: 0
A13: 20610 | B13: 核电站乏燃料处理处置基金支出 | C13: 0
A14: 2061001 | B14: 乏燃料运输 | C14: 0
A15: 2061002 | B15: 乏燃料离堆贮存 | C15: 0
A16: 2061003 | B16: 乏燃料后处理 | C16: 0
... A344: 2340299 | B344: 其他抗疫相关支出 | C344: 0

Sheet 15.政府性基金转移支付决算表
A1: 2025年度汤阴县政府性基金转移支付决算表
A2: 决算15表
A3: 单位:万元
A4: 预算科目 | B4: 预算数 | C4: 调整预算数 | D4: 决算数 | E4: 预算科目 | F4: 预算数 | G4: 调整预算数 | H4: 决算数
A5: 政府性基金收入 | B5: 140000 | C5: 140000 | D5: 15486 | E5: 教育支出
A6: 专项债务对应项目专项收入 | B6: 10000 | C6: 10000 | D6: 3379 | E6: 科学技术支出
E7: 文化旅游体育与传媒支出 | F7: 160 | G7: 83 | H7: 22
E8: 社会保障和就业支出
E9: 卫生健康支出
E10: 节能环保支出
E11: 城乡社区支出 | F11: 99139 | G11: 114789 | H11: 49066
E12: 农林水支出 | F12: 1619 | G12: 1782 | H12: 601
E13: 交通运输支出
E14: 资源勘探工业信息等支出 | F14: 865 | G14: 1705 | H14: 311
E15: 自然资源海洋气象等支出
E16: 住房保障支出
E17: 粮油物资储备支出 | G17: 3500
E18: 灾害防治及应急管理支出 | F18: 35842 | G18: 35842 | H18: 6535
E19: 其他支出 | F19: 62264 | G19: 58170 | H19: 35865
E20: 债务付息支出 | F20: 15157 | G20: 16887 | H20: 16887
E21: 债务发行费用支出 | F21: 2 | G21: 2 | H21: 2
E22: 抗疫特别国债安排的支出
A23: 本 年 收 入 合 计 | B23: 150000 | C23: 150000 | D23: 18865 | E23: 本 年 支 出 合 计 | F23: 215048 | G23: 232760 | H23: 109289
A24: 上级补助收入 | D24: 13806 | E24: 上解上级支出 | H24: 6667
A25: 政府性基金转移支付收入 | D25: 13806
A26: 科学技术
A27: 文化旅游体育与传媒 | D27: 76
A28: 社会保障和就业
A29: 节能环保
A30: 城乡社区 | D30: 857
A31: 农林水 | D31: 765
A32: 交通运输
A33: 资源勘探工业信息等
A34: 自然资源海洋气象等
A35: 超长期特别国债转移支付收入 | D35: 10562
A36: 其他收入 | D36: 1546
A37: 待偿债再融资专项债券上年结余
A38: 上年结余收入 | D38: 109944
A39: 调入资金 | D39: 30601 | E39: 调出资金 | H39: 10442
A40: 债务(转贷)收入 | D40: 130100 | E40: 债务还本支出 | H40: 53447
...

Sheet 16.政府专项债务限额和余额情况决算表
A1: ='##BASEINFO'!$B$2&"度"&'##BASEINFO'!$B$7&"地方政府债务余额情况表" -> 2025年度汤阴县地方政府债务余额情况表
A2: 决算16表
A3: 单位:万元
A4: 项目 | B4: 预算数 | C4: 决算数
A5: 上年末地方政府债务余额 | C5: 648090
A6: 一般债务 | C6: 77453
A7: 专项债务 | C7: 570637
A8: 本年地方政府债务余额限额 | B8: 769499
A9: 一般债务 | B9: 78386
A10: 专项债务 | B10: 691113
A11: 本年地方政府债务(转贷)收入 | C11: 141270
A12: 一般债务 | C12: 11170
A13: 专项债务 | C13: 130100
A14: 本年地方政府债务还本支出 | C14: 65349
A15: 一般债务 | C15: 11902
A16: 专项债务 | C16: 53447
A17: 年末地方政府债务余额 | C17: 756011
A18: 一般债务 | C18: 76721
A19: 专项债务 | C19: 679290

Sheet 17.汤阴县政府性基金决算明细表
A1: ='##BASEINFO'!$B$2&"度"&'##BASEINFO'!$B$7&"政府性基金预算收入决算明细表" -> 2025年度汤阴县政府性基金预算收入决算明细表
A2: 决算17表
A3: 单位:万元
A4: 预算科目 | B4: 决算数
A5: 政府性基金收入 | B5: 15486
A6: 农网还贷资金收入
A7: 地方农网还贷资金收入
A8: 海南省高等级公路车辆通行附加费收入
A9: 旅游发展基金收入
A10: 国家电影事业发展专项资金收入
A11: 国有土地收益基金收入 | B11: 656
A12: 农业土地开发资金收入 | B12: 296
A13: 国有土地使用权出让收入 | B13: 8154
A14: 土地出让价款收入 | B14: 8026
A15: 补缴的土地价款 | B15: 185
A16: 划拨土地收入 | B16: 135
A17: 缴纳新增建设用地土地有偿使用费 | B17: -211
A18: 其他土地出让收入 | B18: 19
A19: 大中型水库库区基金收入
A20: 地方大中型水库库区基金收入
A21: 彩票公益金收入
A22: 福利彩票公益金收入
A23: 体育彩票公益金收入
A24: 城市基础设施配套费收入 | B24: 5356
A25: 小型水库移民扶助基金收入
A26: 国家重大水利工程建设基金收入
A27: 地方重大水利工程建设资金
A28: 车辆通行费
A29: 污水处理费收入 | B29: 1024
A30: 彩票发行机构和彩票销售机构的业务费用
A31: 福利彩票销售机构的业务费用
A32: 体育彩票销售机构的业务费用
A33: 彩票兑奖周转金
A34: 彩票发行销售风险基金
A35: 彩票市场调控资金收入
A36: 耕地保护考核奖惩基金收入
A37: 超长期特别国债财务基金收入
A38: 其他政府性基金收入
A39: 专项债务对应项目专项收入 | B39: 3379
A40: 海南省高等级公路车辆通行附加费专项债务对应项目专项收入
...

Sheet 18.汤阴县政府性基金支出决算功能分类明细表
A1: ='##BASEINFO'!$B$2&"度"&'##BASEINFO'!$B$7&"政府性基金预算支出决算功能分类明细表" -> 2025年度汤阴县政府性基金预算支出决算功能分类明细表
A2: 决算18表
A3: 单位:万元
A4: 预算科目 | B4: 决算数
A5: 教育支出
A6: 超长期特别国债安排的支出
A7: 基础教育
A8: 高等教育
A9: 职业教育
A10: 特殊教育
A11: 其他教育支出
A12: 科学技术支出
A13: 核电站乏燃料处理处置基金支出
A14: 乏燃料运输
A15: 乏燃料离堆贮存
A16: 乏燃料后处理
... A26: 其他科技支出
A27: 文化旅游体育与传媒支出 | B27: 22
A28: 国家电影事业发展专项资金安排的支出
A29: 资助国产影片放映
A30: 资助影院建设
A31: 资助少数民族语电影译制
A32: 购买农村电影公益性放映版权服务
A33: 其他国家电影事业发展专项资金支出
A34: 旅游发展基金支出 | B34: 22
A35: 宣传促销
A36: 行业规划
A37: 旅游事业补助
A38: 地方旅游开发项目补助 | B38: 22
A39: 其他旅游发展基金支出
A40: 国家电影事业发展专项资金对应专项债务收入安排的支出
A41: 资助城市影院
A42: 其他国家电影事业发展专项资金对应专项债务收入支出
A43: 超长期特别国债安排的支出
A44: 文化和旅游
A45: 文物
A46: 体育
A47: 新闻出版电影
A48: 广播电视
A49: 其他文化旅游体育与传媒支出
...

Sheet 19.汤阴县政府性基金收支及结余情况表
A1: ='##BASEINFO'!$B$2&"度"&'##BASEINFO'!$B$7&"政府性基金预算收支及结余情况表" -> 2025年度汤阴县政府性基金预算收支及结余情况表
A2: 决算19表
A3: 单位:万元
A4: 收入项目 | B4: 合计 | C4: 本年收入 | D4: 上级补助收入 | E4: 待偿债再融资专项债券上年结余 | F4: 上年结余收入 | G4: 调入资金 | H4: 债务(转贷)收入 | I4: 省补助计划单列市收入 | J4: 动用偿债备付金 | K4: 支出项目 | L4: 合计 | M4: 本年支出 | N4: 上解上级支出 | O4: 调出资金 | P4: 债务还本支出 | Q4: 计划单列市上解省支出 | R4: 偿债备付金 | S4: 结余项目 | T4: 合计 | U4: 待偿债再融资专项债券结余 | V4: 年终结余
A6: 核电站乏燃料处理处置基金收入 | B6: =SUM(C6:J6) -> 0 | K6: 核电站乏燃料处理处置基金支出 | L6: =SUM(M6:R6) -> 0 | S6: 核电站乏燃料处理处置基金结余 | T6: =SUM(U6:V6) -> 0
A7: 国家电影事业发展专项资金相关收入 | B7: =SUM(C7:J7) -> 183 | D7: 60 | F7: 123 | K7: 国家电影事业发展专项资金相关支出 | L7: =SUM(M7:R7) -> 123 | O7: 123 | S7: 国家电影事业发展专项资金相关结余 | T7: =SUM(U7:V7) -> 60 | V7: 60
A8: 旅游发展基金收入 | B8: =SUM(C8:J8) -> 23 | D8: 16 | F8: 7 | K8: 旅游发展基金支出 | L8: =SUM(M8:R8) -> 22 | M8: 22 | S8: 旅游发展基金结余 | T8: =SUM(U8:V8) -> 1 | V8: 1
A9: 可再生能源电价附加收入 | B9: =SUM(C9:J9) -> 0 | K9: 可再生能源电价附加收入安排的支出 | L9: =SUM(M9:R9) -> 0 | S9: 可再生能源电价附加结余 | T9: =SUM(U9:V9) -> 0
A10: 国有土地使用权出让相关收入 | B10: =SUM(C10:J10) -> 166017 | C10: 9968 | D10: 857 | F10: 44150 | G10: 24242 | H10: 86800 | K10: 国有土地使用权出让相关支出 | L10: =SUM(M10:R10) -> 107350 | M10: 53796 | N10: 107 | P10: 53447 | S10: 国有土地使用权出让相关结余 | T10: =SUM(U10:V10) -> 58667 | V10: 58667
A11: 国有土地收益基金相关收入 | B11: =SUM(C11:J11) -> 656 | C11: 656 | K11: 国有土地收益基金相关支出 | L11: =SUM(M11:R11) -> 656 | O11: 656 | S11: 国有土地收益基金相关结余 | T11: =SUM(U11:V11) -> 0
A12: 农业土地开发资金相关收入 | B12: =SUM(C12:J12) -> 296 | C12: 296 | K12: 农业土地开发资金相关支出 | L12: =SUM(M12:R12) -> 296 | O12: 296 | S12: 农业土地开发资金相关结余 | T12: =SUM(U12:V12) -> 0
A13: 城市基础设施配套费相关收入 | B13: =SUM(C13:J13) -> 5356 | C13: 5356 | K13: 城市基础设施配套费相关支出 | L13: =SUM(M13:R13) -> 5356 | M13: 2330 | O13: 3026 | S13: 城市基础设施配套费相关结余 | T13: =SUM(U13:V13) -> 0
A14: 污水处理费相关收入 | B14: =SUM(C14:J14) -> 1024 | C14: 1024 | K14: 污水处理费相关支出 | L14: =SUM(M14:R14) -> 1024 | M14: 850 | O14: 174 | S14: 污水处理费相关结余 | T14: =SUM(U14:V14) -> 0
A15: 大中型水库库区基金相关收入 | B15: =SUM(C15:J15) -> 62 | D15: 19 | F15: 43 | K15: 大中型水库库区基金相关支出 | L15: =SUM(M15:R15) -> 43 | O15: 43 | S15: 大中型水库库区基金相关结余 | T15: =SUM(U15:V15) -> 19 | V15: 19
A16: 三峡水库库区基金收入 | B16: =SUM(C16:J16) -> 0 | K16: 三峡水库库区基金支出 | L16: =SUM(M16:R16) -> 0 | S16: 三峡水库库区基金结余 | T16: =SUM(U16:V16) -> 0
A17: 国家重大水利工程建设基金相关收入 | B17: =SUM(C17:J17) -> 0 | K17: 国家重大水利工程建设基金相关支出 | L17: =SUM(M17:R17) -> 0 | S17: 国家重大水利工程建设基金相关结余 | T17: =SUM(U17:V17) -> 0
A18: 大中型水库移民后期扶持基金收入 | B18: =SUM(C18:J18) -> 1717 | D18: 700 | F18: 1017 | K18: 大中型水库移民后期扶持基金支出 | L18: =SUM(M18:R18) -> 587 | M18: 587 | S18: 大中型水库移民后期扶持基金结余 | T18: =SUM(U18:V18) -> 1130 | V18: 1130
A19: 小型水库移民扶助基金相关收入 | B19: =SUM(C19:J19) -> 90 | D19: 46 | F19: 44 | K19: 小型水库移民扶助基金相关支出 | L19: =SUM(M19:R19) -> 58 | M19: 14 | O19: 44 | S19: 小型水库移民扶助基金相关结余 | T19: =SUM(U19:V19) -> 32 | V19: 32
A20: 海南省高等级公路车辆通行附加费相关收入 | B20: =SUM(C20:J20) -> 0 | K20: 海南省高等级公路车辆通行附加费相关支出 | L20: =SUM(M20:R20) -> 0 | S20: 海南省高等级公路车辆通行附加费相关结余 | T20: =SUM(U20:V20) -> 0
A21: 车辆通行费相关收入 | B21: =SUM(C21:J21) -> 0 | K21: 车辆通行费相关支出 | L21: =SUM(M21:R21) -> 0 | S21: 车辆通行费相关结余 | T21: =SUM(U21:V21) -> 0
A22: 民航发展基金收入 | B22: =SUM(C22:J22) -> 0 | K22: 民航发展基金支出 | L22: =SUM(M22:R22) -> 0 | S22: 民航发展基金结余 | T22: =SUM(U22:V22) -> 0
A23: 农网还贷资金收入 | B23: =SUM(C23:J23) -> 0 | K23: 农网还贷资金支出 | L23: =SUM(M23:R23) -> 0 | S23: 农网还贷资金结余 | T23: =SUM(U23:V23) -> 0
A24: 耕地保护考核奖惩基金收入 | B24: =SUM(C24:J24) -> 0 | K24: 耕地保护考核奖惩基金支出 | L24: =SUM(M24:R24) -> 0 | S24: 耕地保护考核奖惩基金结余 | T24: =SUM(U24:V24) -> 0
A25: 彩票发行机构和彩票销售机构的业务费用 | B25: =SUM(C25:J25) -> 0 | K25: 彩票发行销售机构业务费安排的支出 | L25: =SUM(M25:R25) -> 0 | S25: 彩票发行机构和彩票销售机构的业务费用结余 | T25: =SUM(U25:V25) -> 0
A26: 彩票公益金收入 | B26: =SUM(C26:J26) -> 3456 | D26: 1546 | F26: 1910 | K26: 彩票公益金安排的支出 | L26: =SUM(M26:R26) -> 2872 | M26: 962 | O26: 1910 | S26: 彩票公益金结余 | T26: =SUM(U26:V26) -> 584 | V26: 584
A27: 超长期特别国债相关收入 | B27: =SUM(C27:J27) -> 51568 | D27: 10562 | F27: 41006 | K27: 超长期特别国债安排的支出 | L27: =SUM(M27:R27) -> 8688 | M27: 8688 | S27: 超长期特别国债相关结余 | T27: =SUM(U27:V27) -> 42880 | V27: 42880
A28: 其他政府性基金相关收入 | B28: =SUM(C28:J28) -> 72868 | C28: 1565 | F28: 21644 | G28: 6359 | H28: 43300 | K28: 其他政府性基金相关支出 | L28: =SUM(M28:R28) -> 52770 | M28: 42040 | N28: 6560 | O28: 4170 | S28: 其他政府性基金相关结余 | T28: =SUM(U28:V28) -> 20098 | V28: 20098
A29: 其中:抗疫特别国债上年结余收入 | K29: 其中:抗疫特别国债安排的支出 | L29: =SUM(M29:R29) -> 0 | S29: 其中:抗疫特别国债结余 | T29: =SUM(V29) -> 0
A30: 收 入 合 计 | B30: =SUM(C30:J30) -> 303316 | C30: 18865 | D30: 13806 | F30: 109944 | G30: 30601 | H30: 130100 | K30: 支 出 合 计 | L30: =SUM(M30:R30) -> 179845 | M30: 109289 | N30: 6667 | O30: 10442 | P30: 53447 | S30: 结 余 合 计 | T30: =SUM(U30:V30) -> 123471 | V30: 123471

Sheet 20.汤阴县政府性基金预算收支分级表
A1: ='##BASEINFO'!$B$2&"度"&'##BASEINFO'!$B$7&"政府性基金预算收支决算分级表" -> 2025年度汤阴县政府性基金预算收支决算分级表
A2: 决算20表
A3: 单位:万元
A4: 收入项目 | B4: 决算数合计 | C4: 省级 | D4: 地级 | E4: 其中:地级直属乡镇 | F4: 县级 | G4: 乡级 | H4: 支出项目 | I4: 决算数合计 | J4: 省级 | K4: 地级 | L4: 其中:地级直属乡镇 | M4: 县级 | N4: 乡级
A5: 国有土地使用权出让相关收入 | B5: 9968 | F5: 9968 | H5: 国有土地使用权出让相关支出 | I5: 53796 | M5: 53696 | N5: 100
A6: 国有土地收益基金相关收入 | B6: 656 | F6: 656 | H6: 国有土地收益基金相关支出
A7: 农业土地开发资金相关收入 | B7: 296 | F7: 296 | H7: 农业土地开发资金相关支出
A8: 城市基础设施配套费相关收入 | B8: 5356 | F8: 5356 | H8: 城市基础设施配套费相关支出 | I8: 2330 | M8: 2330
A9: 污水处理费相关收入 | B9: 1024 | F9: 1024 | H9: 污水处理费相关支出 | I9: 850 | M9: 850
A10: 车辆通行费相关收入 | H10: 车辆通行费相关支出
A11: 彩票公益金收入 | H11: 彩票公益金安排的支出 | I11: 962 | M11: 862 | N11: 100
A12: 其他各项政府性基金相关收入 | B12: =SUM(B14)-SUM(B5:B11) -> 1565 | C12: =SUM(C14)-SUM(C5:C11) -> 0 | D12: =SUM(D14)-SUM(D5:D11) -> 0 | E12: =SUM(E14)-SUM(E5:E11) -> 0 | F12: =SUM(F14)-SUM(F5:F11) -> 1565 | G12: =SUM(G14)-SUM(G5:G11) -> 0 | H12: 超长期特别国债安排的支出 | I12: 8688 | M12: 8688
H13: 其他各项政府性基金相关支出 | I13: =SUM(I14)-SUM(I5:I12) -> 42663 | J13: =SUM(J14)-SUM(J5:J12) -> 0 | K13: =SUM(K14)-SUM(K5:K12) -> 0 | L13: =SUM(L14)-SUM(L5:L12) -> 0 | M13: =SUM(M14)-SUM(M5:M12) -> 42663 | N13: =SUM(N14)-SUM(N5:N12) -> 0
A14: 本 年 收 入 合 计 | B14: 18865 | F14: 18865 | H14: 本 年 支 出 合 计 | I14: 109289 | M14: 109089 | N14: 200

Sheet sheet03
A9: 第三部分:国有资本经营预算

Sheet 21.国有资本经营预算收入决算表
A1: ='##BASEINFO'!$B$2&"度"&'##BASEINFO'!$B$7&"国有资本经营预算收支决算总表" -> 2025年度汤阴县国有资本经营预算收支决算总表
H2: 决算21表
H3: 单位:万元
A4: 预算科目 | B4: 预算数 | C4: 调整预算数 | D4: 决算数 | E4: 预算科目 | F4: 预算数 | G4: 调整预算数 | H4: 决算数
A5: 利润收入 | E5: 解决历史遗留问题及改革成本支出 | G5: 92
A6: 股息红利收入 | E6: 国有企业资本金注入
A7: 产权转让收入 | E7: 国有企业公益性补贴
A8: 清算收入 | E8: 其他国有资本经营预算支出
A9: 其他国有资本经营预算收入
A10: 本 年 收 入 合 计 | E10: 本 年 支 出 合 计 | G10: 92
A11: 上级补助收入 | D11: 46 | E11: 上解上级支出
A12: 上年结余收入 | D12: 46
A13: 省补助计划单列市收入 | E13: 计划单列市上解省支出
E14: 调出资金
E15: 年终结余 | H15: 92
A16: 收 入 总 计 | D16: 92 | E16: 支 出 总 计 | H16: 92

Sheet 22.国有资本经营预算支出决算表
A1: ='##BASEINFO'!$B$2&"度"&'##BASEINFO'!$B$7&"国有资本经营预算收支决算总表" -> 2025年度汤阴县国有资本经营预算收支决算总表
H2: 决算22表
H3: 单位:万元
A4: 预算科目 | B4: 预算数 | C4: 调整预算数 | D4: 决算数 | E4: 预算科目 | F4: 预算数 | G4: 调整预算数 | H4: 决算数
A5: 利润收入 | E5: 解决历史遗留问题及改革成本支出 | G5: 92
A6: 股息红利收入 | E6: 国有企业资本金注入
A7: 产权转让收入 | E7: 国有企业公益性补贴
A8: 清算收入 | E8: 其他国有资本经营预算支出
A9: 其他国有资本经营预算收入
A10: 本 年 收 入 合 计 | E10: 本 年 支 出 合 计 | G10: 92
A11: 上级补助收入 | D11: 46 | E11: 上解上级支出
A12: 上年结余收入 | D12: 46
A13: 省补助计划单列市收入 | E13: 计划单列市上解省支出
E14: 调出资金
E15: 年终结余 | H15: 92
A16: 收 入 总 计 | D16: 92 | E16: 支 出 总 计 | H16: 92

Sheet 23.国有资本经营预算本级支出决算表
A1: 2025年度汤阴县本级国有资本经营预算收支决算总表
H2: 决算23表
H3: 单位:万元
A4: 预算科目 | B4: 预算数 | C4: 调整预算数 | D4: 决算数 | E4: 预算科目 | F4: 预算数 | G4: 调整预算数 | H4: 决算数
A5: 利润收入 | E5: 解决历史遗留问题及改革成本支出 | G5: 92
A6: 股息红利收入 | E6: 国有企业资本金注入
A7: 产权转让收入 | E7: 国有企业公益性补贴
A8: 清算收入 | E8: 其他国有资本经营预算支出
A9: 其他国有资本经营预算收入
A10: 本 年 收 入 合 计 | E10: 本 年 支 出 合 计 | G10: 92
A11: 上级补助收入 | D11: 46 | E11: 上解上级支出
A12: 上年结余收入 | D12: 46
A13: 省补助计划单列市收入 | E13: 计划单列市上解省支出
E14: 调出资金
E15: 年终结余 | H15: 92
A16: 收 入 总 计 | D16: 92 | E16: 支 出 总 计 | H16: 92

Sheet 24.国有资本经营预算转移支付表
A1: 2025年度汤阴县国有资本经营转移支付表
H2: 决算24表
H3: 单位:万元
A4: 预算科目 | B4: 预算数 | C4: 调整预算数 | D4: 决算数 | E4: 预算科目 | F4: 预算数 | G4: 调整预算数 | H4: 决算数
A5: 利润收入 | E5: 解决历史遗留问题及改革成本支出 | G5: 92
A6: 股息红利收入 | E6: 国有企业资本金注入
A7: 产权转让收入 | E7: 国有企业公益性补贴
A8: 清算收入 | E8: 其他国有资本经营预算支出
A9: 其他国有资本经营预算收入
A10: 本 年 收 入 合 计 | E10: 本 年 支 出 合 计 | G10: 92
A11: 上级补助收入 | D11: 46 | E11: 上解上级支出
A12: 上年结余收入 | D12: 46
A13: 省补助计划单列市收入 | E13: 计划单列市上解省支出
E14: 调出资金
E15: 年终结余 | H15: 92
A16: 收 入 总 计 | D16: 92 | E16: 支 出 总 计 | H16: 92

Sheet 25.汤阴县国有资本经营预算收支决算明细表
A1: ='##BASEINFO'!$B$2&"度"&'##BASEINFO'!$B$7&"国有资本经营预算收支决算明细表" -> 2025年度汤阴县国有资本经营预算收支决算明细表
A2: 决算25表
A3: 单位:万元
A4: 预算科目 | B4: 决算数 | C4: 预算科目 | D4: 决算数
A5: 利润收入 | C5: 解决历史遗留问题及改革成本支出
A6: 石油石化企业利润收入 | C6: 厂办大集体改革支出
A7: 电力企业利润收入 | C7: “三供一业”移交补助支出
A8: 电信企业利润收入 | C8: 国有企业办职教幼教补助支出
A9: 煤炭企业利润收入 | C9: 国有企业办公共服务机构移交补助支出
A10: 有色冶金采掘企业利润收入 | C10: 国有企业退休人员社会化管理补助支出
A11: 黑色冶金采掘企业利润收入 | C11: 国有企业棚户区改造支出
A12: 化工企业利润收入 | C12: 国有企业改革成本支出
A13: 运输企业利润收入 | C13: 离休干部医药费补助支出
A14: 电子企业利润收入 | C14: 金融企业改革性支出
A15: 机械企业利润收入 | C15: 其他解决历史遗留问题及改革成本支出
A16: 投资服务企业利润收入 | C16: 国有企业资本金注入
... A28: 转制科研院所利润收入 | C28: 其他国有资本经营预算支出(项)
A29: 地质勘查企业利润收入
A30: 卫生体育福利企业利润收入
A31: 教育文化广播企业利润收入
A32: 科学研究企业利润收入
A33: 机关社团所属企业利润收入
A34: 金融企业利润收入
A35: 其他国有资本经营预算企业利润收入
A36: 股息红利收入
A37: 国有控股公司股息红利收入
A38: 国有参股公司股息红利收入
A39: 金融企业股息红利收入
A40: 其他国有资本经营预算企业股息红利收入
... A50: 其他国有资本经营预算收入
A51: 本 年 收 入 合 计 | C51: 本 年 支 出 合 计
A54: 情况说明：我县无国有资本经营收支预决算，因此本表无数据。

Sheet 26.汤阴县国有资本经营预算收支决算分级表
A1: ='##BASEINFO'!$B$2&"度"&'##BASEINFO'!$B$7&"国有资本经营预算收支决算分级表" -> 2025年度汤阴县国有资本经营预算收支决算分级表
A2: 决算26表
A3: 单位:万元
A4: 预算科目 | B4: 决算数合计 | C4: 省级 | D4: 地级 | E4: 其中:地级直属乡镇 | F4: 县级 | G4: 乡级 | H4: 预算科目 | I4: 决算数合计 | J4: 省级 | K4: 地级 | L4: 其中:地级直属乡镇 | M4: 县级 | N4: 乡级
A5: 利润收入 | H5: 解决历史遗留问题及改革成本支出
A6: 股息红利收入 | H6: 国有企业资本金注入
A7: 产权转让收入 | H7: 国有企业公益性补贴
A8: 清算收入 | H8: 其他国有资本经营预算支出
A9: 其他国有资本经营预算收入
A10: 本 年 收 入 合 计 | H10: 本 年 支 出 合 计
A14: 情况说明：我县无国有资本经营收支预决算，因此本表无数据。

Sheet sheet04
A9: 第四部分:社会保险基金

Sheet 27.社会保险基金收入决算表
A1: ='##BASEINFO'!$B$2&"度"&'##BASEINFO'!$B$7&"社会保险基金预算收支情况表" -> 2025年度汤阴县社会保险基金预算收支情况表
A2: 决算27表
A3: 单位:万元
A4: 项目 | B4: 合计 | C4: 企业职工基本养老保险基金 | D4: 城乡居民基本养老保险基金 | E4: 机关事业单位基本养老保险基金 | F4: 职工基本医疗保险(含生育保险)基金 | G4: 城乡居民基本医疗保险基金 | H4: 工伤保险基金 | I4: 失业保险基金
A6: 一、收入 | B6: 30547 | D6: 30547
A7: 其中:社会保险费收入 | B7: 9146 | D7: 9146
A8: 财政补贴收入 | B8: 4113 | D8: 4113
A9: 利息收入 | B9: 949 | D9: 949
A10: 委托投资收益 | B10: 1649 | D10: 1649
A11: 转移收入 | B11: 77 | D11: 77
A12: 其他收入 | B12: 4 | D12: 4
A13: 全国统筹调剂资金收入
A14: 二、支出 | B14: 19722 | D14: 19722
A15: 其中:社会保险待遇支出 | B15: 19688 | D15: 19688
A16: 转移支出 | B16: 14 | D16: 14
A17: 其他支出 | B17: 20 | D17: 20
A18: 全国统筹调剂资金支出
A19: 三、本年收支结余 | B19: 10825 | D19: 10825
A20: 四、年末滚存结余 | B20: 67409 | D20: 67409

Sheet 28.社会保险基金支出决算表
A1: ='##BASEINFO'!$B$2&"度"&'##BASEINFO'!$B$7&"社会保险基金预算收支情况表" -> 2025年度汤阴县社会保险基金预算收支情况表
A2: 决算28表
A3: 单位:万元
A4: 项目 | B4: 合计 | C4: 企业职工基本养老保险基金 | D4: 城乡居民基本养老保险基金 | E4: 机关事业单位基本养老保险基金 | F4: 职工基本医疗保险(含生育保险)基金 | G4: 城乡居民基本医疗保险基金 | H4: 工伤保险基金 | I4: 失业保险基金
A6: 一、收入 | B6: 30547 | D6: 30547
A7: 其中:社会保险费收入 | B7: 9146 | D7: 9146
A8: 财政补贴收入 | B8: 4113 | D8: 4113
A9: 利息收入 | B9: 949 | D9: 949
A10: 委托投资收益 | B10: 1649 | D10: 1649
A11: 转移收入 | B11: 77 | D11: 77
A12: 其他收入 | B12: 4 | D12: 4
A13: 全国统筹调剂资金收入
A14: 二、支出 | B14: 19722 | D14: 19722
A15: 其中:社会保险待遇支出 | B15: 19688 | D15: 19688
A16: 转移支出 | B16: 14 | D16: 14
A17: 其他支出 | B17: 20 | D17: 20
A18: 全国统筹调剂资金支出
A19: 三、本年收支结余 | B19: 10825 | D19: 10825
A20: 四、年末滚存结余 | B20: 67409 | D20: 67409

Sheet sheet05
A9: 第五部分:补充资料

Sheet 29.税收返还分地区公开
A1: 2025年度汤阴县税收返还分地区公开表
A2: 决算29表
A3: 单位:万元
A4: 预算科目 | B4: 决算数
A5: 一、返还性收入 | B5: 7103
A6: 所得税基数返还收入 | B6: 571
A7: 成品油税费改革税收返还收入 | B7: 861
A8: 增值税税收返还收入 | B8: 1926
A9: 消费税税收返还收入 | B9: 1
A10: 增值税“五五分享”税收返还收入 | B10: 3744
A11: 其他返还性收入
A12: 二、一般性转移支付收入 | B12: 138892
A13: 体制补助收入
A14: 均衡性转移支付收入 | B14: 40448
A15: 县级基本财力保障机制奖补资金收入 | B15: 14916
A16: 结算补助收入 | B16: 3121
A17: 资源枯竭型城市转移支付补助收入
A18: 企业事业单位划转补助收入
A19: 产粮(油)大县奖励资金收入 | B19: 3384
A20: 重点生态功能区转移支付收入 | B20: 2130
A21: 固定数额补助收入 | B21: 19726
A22: 革命老区转移支付收入
A23: 民族地区转移支付收入
A24: 边境地区转移支付收入
A25: 巩固脱贫攻坚成果衔接乡村振兴转移支付收入 | B25: 4170
A26: 一般公共服务共同财政事权转移支付收入
A27: 外交共同财政事权转移支付收入
A28: 国防共同财政事权转移支付收入
A29: 公共安全共同财政事权转移支付收入 | B29: 1349
A30: 教育共同财政事权转移支付收入 | B30: 15277
A31: 科学技术共同财政事权转移支付收入
A32: 文化旅游体育与传媒共同财政事权转移支付收入 | B32: 617
A33: 社会保障和就业共同财政事权转移支付收入 | B33: 7978
A34: 医疗卫生共同财政事权转移支付收入 | B34: 8711
A35: 节能环保共同财政事权转移支付收入 | B35: 238
A36: 城乡社区共同财政事权转移支付收入 | B36: 69
A37: 农林水共同财政事权转移支付收入 | B37: 15786
A38: 交通运输共同财政事权转移支付收入 | B38: 574
A39: 资源勘探工业信息等共同财政事权转移支付收入
A40: 商业服务业等共同财政事权转移支付收入
...

Sheet 30.一般性转移支付分地区公开
A1: 2025年度汤阴县一般性转移支付分地区公开表
A2: 决算30表
A3: 单位:万元
A4: 预算科目 | B4: 决算数
A5: 一、返还性收入 | B5: 7103
A6: 所得税基数返还收入 | B6: 571
A7: 成品油税费改革税收返还收入 | B7: 861
A8: 增值税税收返还收入 | B8: 1926
A9: 消费税税收返还收入 | B9: 1
A10: 增值税“五五分享”税收返还收入 | B10: 3744
A11: 其他返还性收入
A12: 二、一般性转移支付收入 | B12: 138892
A13: 体制补助收入
A14: 均衡性转移支付收入 | B14: 40448
A15: 县级基本财力保障机制奖补资金收入 | B15: 14916
A16: 结算补助收入 | B16: 3121
A17: 资源枯竭型城市转移支付补助收入
A18: 企业事业单位划转补助收入
A19: 产粮(油)大县奖励资金收入 | B19: 3384
A20: 重点生态功能区转移支付收入 | B20: 2130
A21: 固定数额补助收入 | B21: 19726
A22: 革命老区转移支付收入
A23: 民族地区转移支付收入
A24: 边境地区转移支付收入
A25: 巩固脱贫攻坚成果衔接乡村振兴转移支付收入 | B25: 4170
A26: 一般公共服务共同财政事权转移支付收入
A27: 外交共同财政事权转移支付收入
A28: 国防共同财政事权转移支付收入
A29: 公共安全共同财政事权转移支付收入 | B29: 1349
A30: 教育共同财政事权转移支付收入 | B30: 15277
A31: 科学技术共同财政事权转移支付收入
A32: 文化旅游体育与传媒共同财政事权转移支付收入 | B32: 617
A33: 社会保障和就业共同财政事权转移支付收入 | B33: 7978
A34: 医疗卫生共同财政事权转移支付收入 | B34: 8711
A35: 节能环保共同财政事权转移支付收入 | B35: 238
A36: 城乡社区共同财政事权转移支付收入 | B36: 69
A37: 农林水共同财政事权转移支付收入 | B37: 15786
A38: 交通运输共同财政事权转移支付收入 | B38: 574
A39: 资源勘探工业信息等共同财政事权转移支付收入
A40: 商业服务业等共同财政事权转移支付收入
...

Sheet 31.专项转移支付决算表分地区、分项目公开表
A1: 2025年专项转移支付决算表分地区、分项目公开表
A2: 决算31表
A3: 单位:万元
A4: 预算科目 | B4: 决算数
A5: 三、专项转移支付收入 | B5: 16460
A6: 一般公共服务 | B6: 234
A7: 外交
A8: 国防 | B8: 8
A9: 公共安全 | B9: 110
A10: 教育 | B10: 663
A11: 科学技术 | B11: 50
A12: 文化旅游体育与传媒 | B12: 95
A13: 社会保障和就业 | B13: 10
A14: 卫生健康 | B14: 246
A15: 节能环保 | B15: 2863
A16: 城乡社区
A17: 农林水 | B17: 4698
A18: 交通运输 | B18: 6581
A19: 资源勘探工业信息等 | B19: 415
A20: 商业服务业等 | B20: 227
A21: 金融
A22: 自然资源海洋气象等 | B22: 200
A23: 住房保障
A24: 粮油物资储备 | B24: 60
A25: 灾害防治及应急管理
A26: 其他收入
A27: 四、债务(转贷)收入 | B27: 11170
A28: 地方政府一般债券(转贷)收入 | B28: 11170
A29: 地方政府向外国政府借款(转贷)收入
A30: 地方政府向国际组织借款(转贷)收入
A31: 地方政府其他一般债务(转贷)收入
A32: 五、调入资金 | B32: 10442
A33: 从政府性基金预算调入 | B33: 10442
A34: 从国有资本经营预算调入
A35: 从其他资金调入
A36: 六、区域间转移性收入
A37: 接受其他地区援助收入
A38: 生态保护补偿转移性收入
A39: 土地指标调剂转移性收入
A40: 其他转移性收入
...

Sheet 32.政府性基金预算本级支出功能分类到项级科目
A1: 2025年度汤阴县政府性基金预算本级支出功能分类到项级科目
A2: 决算14表
A3: 单位：万元
B4: 政府性基金预算支出合计 | C4: 109088.7
A5: 205 | B5: 教育支出 | C5: 0
A6: 20598 | B6: 超长期特别国债安排的支出 | C6: 0
A7: 2059801 | B7: 基础教育 | C7: 0
A8: 2059802 | B8: 高等教育 | C8: 0
A9: 2059803 | B9: 职业教育 | C9: 0
A10: 2059804 | B10: 特殊教育 | C10: 0
A11: 2059899 | B11: 其他教育支出 | C11: 0
A12: 206 | B12: 科学技术支出 | C12: 0
A13: 20610 | B13: 核电站乏燃料处理处置基金支出 | C13: 0
A14: 2061001 | B14: 乏燃料运输 | C14: 0
A15: 2061002 | B15: 乏燃料离堆贮存 | C15: 0
A16: 2061003 | B16: 乏燃料后处理 | C16: 0
... A344: 2340299 | B344: 其他抗疫相关支出 | C344: 0

Sheet 33.国有资本经营预算本级支出功能分类到项级科目
A1: 2024年度汤阴县国有资本经营预算本级支出功能分类到项级科目
A2: 决算33表
A3: 单位：万元
B4: 预算科目 | C4: 决算数
B5: 国有资本经营预算支出合计 | C5: 0
A6: 208 | B6: 社会保障和就业支出 | C6: 0
A7: 20804 | B7: 补充全国社会保障基金 | C7: 0
A8: 2080451 | B8: 国有资本经营预算补充社保基金支出
A9: 223 | B9: 国有资本经营预算支出 | C9: 0
A10: 22301 | B10: 解决历史遗留问题及改革成本支出 | C10: 0
A11: 2230101 | B11: 厂办大集体改革支出
A12: 2230102 | B12: “三供一业”移交补助支出
A13: 2230103 | B13: 国有企业办职教幼教补助支出
A14: 2230104 | B14: 国有企业办公共服务机构移交补助支出
A15: 2230105 | B15: 国有企业退休人员社会化管理补助支出
A16: 2230106 | B16: 国有企业棚户区改造支出
A17: 2230107 | B17: 国有企业改革成本支出
A18: 2230108 | B18: 离休干部医药费补助支出
A19: 2230109 | B19: 金融企业改革性支出
A20: 2230199 | B20: 其他解决历史遗留问题及改革成本支出
A21: 22302 | B21: 国有企业资本金注入 | C21: 0
A22: 2230201 | B22: 国有经济结构调整支出
A23: 2230202 | B23: 公益性设施投资支出
A24: 2230203 | B24: 前瞻性战略性产业发展支出
A25: 2230204 | B25: 生态环境保护支出
A26: 2230205 | B26: 支持科技进步支出
A27: 2230206 | B27: 保障国家经济安全支出
A28: 2230208 | B28: 金融企业资本性支出
A29: 2230299 | B29: 其他国有企业资本金注入
A30: 22303 | B30: 国有企业政策性补贴 | C30: 0
A31: 2230301 | B31: 国有企业政策性补贴
A32: 22399 | B32: 其他国有资本经营预算支出 | C32: 0
A33: 2239999 | B33: 其他国有资本经营预算支出

Sheet 34.社会保险基金预算本级支出功能分类到项级科目
A1: 2025年社会保险基金支出决算表
A2: 决算34表
B3: 单位：万元
A4: 项 目 | B4: 支出决算数
A5: 社会保险基金支出 | B5: 19722
A6: 企业职工基本养老保险基金支出
A7: 基本养老金支出
A8: 医疗补助金支出
A9: 丧葬抚恤补助支出
A10: 企业职工基本养老保险基金其他支出
A11: 企业职工基本养老保险转移支出
A12: 机关事业单位基本养老保险基金支出
A13: 基本养老金支出
A14: 机关事业单位基本养老保险基金其他支出
A15: 机关事业单位养老保险基金其他支出
A16: 机关事业单位养老保险基金转移支出
A17: 城乡居民基本养老保险基金支出 | B17: 19722
A18: 基础养老金支出 | B18: 19722
A19: 个人账户养老金支出
A20: 丧葬抚恤补助支出
A21: 其他城乡居民基本养老保险基金支出
A22: 城乡居民基本医疗保险基金支出
A23: 城乡居民基本医疗保险基金医疗待遇支出
A24: 大病医疗保险支出
A25: 丧葬抚恤补助支出
A26: 其他城乡居民基本医疗保险基金支出
A27: 工伤保险基金支出
A28: 工伤保险待遇支出
A29: 劳动能力鉴定支出
A30: 工伤预防费用支出
... A42: 生育保险基金其他支出

Sheet 35.汤阴县相关指标表
A1: 2025年度汤阴县相关指标表
A2: 决算35表
A3: 单位:万元
A4: 会计科目 | B4: 年末余额
A5: 国库存款 | B5: 1409
A6: 其他财政存款 | B6: 4
A7: 国库现金管理资产
A8: 有价证券
A9: 与下级往来
A10: 其中:省与计划单列市往来
A11: 在途款
A12: 应付国库集中支付结余
A13: 与上级往来 | B13: 41626
A14: 其中:上级拨付国债转贷资金
A15: 计划单列市与省往来
A16: 预算稳定调节基金 | B16: 1047
A17: 预算周转金 | B17: 35

Sheet 36.财政拨款“三公”经费支出决算表
F1: 财政拨款“三公”经费支出决算表
L2: 公开36表
A3: 部门：河南省安阳市汤阴县2025年度部门决算汇总 | L3: 金额单位：万元
A4: 预算数 | B4: 预算数 | C4: 预算数 | D4: 预算数 | E4: 预算数 | F4: 预算数 | G4: 决算数 | H4: 决算数 | I4: 决算数 | J4: 决算数 | K4: 决算数 | L4: 决算数
A5: 合计 | B5: 因公出国（境）费 | C5: 公务用车购置及运行维护费 | D5: 公务用车购置及运行维护费 | E5: 公务用车购置及运行维护费 | F5: 公务接待费 | G5: 合计 | H5: 因公出国（境）费 | I5: 公务用车购置及运行维护费 | J5: 公务用车购置及运行维护费 | K5: 公务用车购置及运行维护费 | L5: 公务接待费
A6: 合计 | B6: 因公出国（境）费 | C6: 小计 | D6: 公务用车购置费 | E6: 公务用车运行维护费 | F6: 公务接待费 | G6: 合计 | H6: 因公出国（境）费 | I6: 小计 | J6: 公务用车购置费 | K6: 公务用车运行维护费 | L6: 公务接待费
A7: 1 | B7: 2 | C7: 3 | D7: 4 | E7: 5 | F7: 6 | G7: 7 | H7: 8 | I7: 9 | J7: 10 | K7: 11 | L7: 12
A8: 1884.69 | B8: 20 | C8: =D8+E8 -> 1713.44 | D8: 915.77 | E8: 797.67 | F8: 151.25 | G8: 1008.43 | H8: 0 | I8: =J8+K8 -> 982 | J8: 366.48 | K8: 615.52 | L8: 26.43
A9: 注：本表反映部门本年度一般公共预算财政拨款“三公”经费支出预决算情况。其中，预算数为“三公”经费全年预算数，反映按规定程序调整后的预算数；决算数是包括当年一般公共预算财政拨款和以前年度结转资金安排的实际支出。 | B9: 注：本表反映部门本年度一般公共预算财政拨款“三公”经费支出预决算情况。其中，预算数为“三公”经费全年预算数，反映按规定程序调整后的预算数；决算数是包括当年一般公共预算财政拨款和以前年度结转资金安排的实际支出。 | C9: 注：本表反映部门本年度一般公共预算财政拨款“三公”经费支出预决算情况。其中，预算数为“三公”经费全年预算数，反映按规定程序调整后的预算数；决算数是包括当年一般公共预算财政拨款和以前年度结转资金安排的实际支出。 | D9: 注：本表反映部门本年度一般公共预算财政拨款“三公”经费支出预决算情况。其中，预算数为“三公”经费全年预算数，反映按规定程序调整后的预算数；决算数是包括当年一般公共预算财政拨款和以前年度结转资金安排的实际支出。 | E9: 注：本表反映部门本年度一般公共预算财政拨款“三公”经费支出预决算情况。其中，预算数为“三公”经费全年预算数，反映按规定程序调整后的预算数；决算数是包括当年一般公共预算财政拨款和以前年度结转资金安排的实际支出。 | F9: 注：本表反映部门本年度一般公共预算财政拨款“三公”经费支出预决算情况。其中，预算数为“三公”经费全年预算数，反映按规定程序调整后的预算数；决算数是包括当年一般公共预算财政拨款和以前年度结转资金安排的实际支出。 | G9: 注：本表反映部门本年度一般公共预算财政拨款“三公”经费支出预决算情况。其中，预算数为“三公”经费全年预算数，反映按规定程序调整后的预算数；决算数是包括当年一般公共预算财政拨款和以前年度结转资金安排的实际支出。 | H9: 注：本表反映部门本年度一般公共预算财政拨款“三公”经费支出预决算情况。其中，预算数为“三公”经费全年预算数，反映按规定程序调整后的预算数；决算数是包括当年一般公共预算财政拨款和以前年度结转资金安排的实际支出。 | I9: 注：本表反映部门本年度一般公共预算财政拨款“三公”经费支出预决算情况。其中，预算数为“三公”经费全年预算数，反映按规定程序调整后的预算数；决算数是包括当年一般公共预算财政拨款和以前年度结转资金安排的实际支出。 | J9: 注：本表反映部门本年度一般公共预算财政拨款“三公”经费支出预决算情况。其中，预算数为“三公”经费全年预算数，反映按规定程序调整后的预算数；决算数是包括当年一般公共预算财政拨款和以前年度结转资金安排的实际支出。 | K9: 注：本表反映部门本年度一般公共预算财政拨款“三公”经费支出预决算情况。其中，预算数为“三公”经费全年预算数，反映按规定程序调整后的预算数；决算数是包括当年一般公共预算财政拨款和以前年度结转资金安排的实际支出。 | L9: 注：本表反映部门本年度一般公共预算财政拨款“三公”经费支出预决算情况。其中，预算数为“三公”经费全年预算数，反映按规定程序调整后的预算数；决算数是包括当年一般公共预算财政拨款和以前年度结转资金安排的实际支出。
